BEGIN:VCALENDAR
VERSION:2.0
PRODID:-//The Castle Inn Cambridge - ECPv6.15.20//NONSGML v1.0//EN
CALSCALE:GREGORIAN
METHOD:PUBLISH
X-WR-CALNAME:The Castle Inn Cambridge
X-ORIGINAL-URL:http://www.thecastleinn.pub
X-WR-CALDESC:Events for The Castle Inn Cambridge
REFRESH-INTERVAL;VALUE=DURATION:PT1H
X-Robots-Tag:noindex
X-PUBLISHED-TTL:PT1H
BEGIN:VTIMEZONE
TZID:Europe/London
BEGIN:DAYLIGHT
TZOFFSETFROM:+0000
TZOFFSETTO:+0100
TZNAME:BST
DTSTART:20240331T010000
END:DAYLIGHT
BEGIN:STANDARD
TZOFFSETFROM:+0100
TZOFFSETTO:+0000
TZNAME:GMT
DTSTART:20241027T010000
END:STANDARD
BEGIN:DAYLIGHT
TZOFFSETFROM:+0000
TZOFFSETTO:+0100
TZNAME:BST
DTSTART:20250330T010000
END:DAYLIGHT
BEGIN:STANDARD
TZOFFSETFROM:+0100
TZOFFSETTO:+0000
TZNAME:GMT
DTSTART:20251026T010000
END:STANDARD
BEGIN:DAYLIGHT
TZOFFSETFROM:+0000
TZOFFSETTO:+0100
TZNAME:BST
DTSTART:20260329T010000
END:DAYLIGHT
BEGIN:STANDARD
TZOFFSETFROM:+0100
TZOFFSETTO:+0000
TZNAME:GMT
DTSTART:20261025T010000
END:STANDARD
END:VTIMEZONE
BEGIN:VEVENT
DTSTART;TZID=Europe/London:20250927T190000
DTEND;TZID=Europe/London:20250927T210000
DTSTAMP:20260419T151529
CREATED:20250922T142208Z
LAST-MODIFIED:20250922T142208Z
UID:10000005-1758999600-1759006800@www.thecastleinn.pub
SUMMARY:Rosa Blanca free tasting session
DESCRIPTION:Join us on the 27th September to learn more about the story behind Rosa Blanca and to try half-pints of the beer for free!\nStarts at 7pm.\nOver 18’s only\, one sample per person.
URL:http://www.thecastleinn.pub/event/rosa-blanca-free-tasting-session/
LOCATION:The Castle Inn\, 36 Castle Street\, Cambridge\, Cambridgeshire\, CB3 0AJ\, United Kingdom
CATEGORIES:Food & Drink
ATTACH;FMTTYPE=image/jpeg:http://www.thecastleinn.pub/wp-content/uploads/2025/09/Rosa-Blanca-wide-.jpg
END:VEVENT
END:VCALENDAR