BEGIN:VCALENDAR
VERSION:2.0
PRODID:-//The Castle Inn Cambridge - ECPv6.15.20//NONSGML v1.0//EN
CALSCALE:GREGORIAN
METHOD:PUBLISH
X-WR-CALNAME:The Castle Inn Cambridge
X-ORIGINAL-URL:http://www.thecastleinn.pub
X-WR-CALDESC:Events for The Castle Inn Cambridge
REFRESH-INTERVAL;VALUE=DURATION:PT1H
X-Robots-Tag:noindex
X-PUBLISHED-TTL:PT1H
BEGIN:VTIMEZONE
TZID:Europe/London
BEGIN:DAYLIGHT
TZOFFSETFROM:+0000
TZOFFSETTO:+0100
TZNAME:BST
DTSTART:20240331T010000
END:DAYLIGHT
BEGIN:STANDARD
TZOFFSETFROM:+0100
TZOFFSETTO:+0000
TZNAME:GMT
DTSTART:20241027T010000
END:STANDARD
BEGIN:DAYLIGHT
TZOFFSETFROM:+0000
TZOFFSETTO:+0100
TZNAME:BST
DTSTART:20250330T010000
END:DAYLIGHT
BEGIN:STANDARD
TZOFFSETFROM:+0100
TZOFFSETTO:+0000
TZNAME:GMT
DTSTART:20251026T010000
END:STANDARD
BEGIN:DAYLIGHT
TZOFFSETFROM:+0000
TZOFFSETTO:+0100
TZNAME:BST
DTSTART:20260329T010000
END:DAYLIGHT
BEGIN:STANDARD
TZOFFSETFROM:+0100
TZOFFSETTO:+0000
TZNAME:GMT
DTSTART:20261025T010000
END:STANDARD
BEGIN:DAYLIGHT
TZOFFSETFROM:+0000
TZOFFSETTO:+0100
TZNAME:BST
DTSTART:20270328T010000
END:DAYLIGHT
BEGIN:STANDARD
TZOFFSETFROM:+0100
TZOFFSETTO:+0000
TZNAME:GMT
DTSTART:20271031T010000
END:STANDARD
END:VTIMEZONE
BEGIN:VEVENT
DTSTART;TZID=Europe/London:20260414T190000
DTEND;TZID=Europe/London:20260414T210000
DTSTAMP:20260419T140218
CREATED:20260306T133700Z
LAST-MODIFIED:20260306T133700Z
UID:10000009-1776193200-1776200400@www.thecastleinn.pub
SUMMARY:Paint and Sip Night with The Paint Club
DESCRIPTION:The Paint Club is at Castle Inn Cambridge every month.\nEach month we paint a new picture. We are painting bluebells and birchwood for this month’s event! \nThis is the perfect painting workshop for all\, even if you have never picked up a brush before.\n– No experience required\n– All painting materials provided (apron\, brushes\, paint and a canvas that you can take home)\n– A finished masterpiece in 2 hours.\n– Food & drink to be purchased separately at the bar. \nPlease note there is limited availability so please purchase tickets in advance. If you are buying tickets as a group\, we would suggest purchasing all tickets together to ensure no one misses out. Our events can sell out quickly and unfortunately\, sometimes it means some people can’t get tickets. \nThis event is held upstairs. \nCLICK HERE TO PURCHASE TICKETS
URL:http://www.thecastleinn.pub/event/paint-and-sip-night-with-the-paint-club-5/
LOCATION:The Castle Inn\, 36 Castle Street\, Cambridge\, Cambridgeshire\, CB3 0AJ\, United Kingdom
CATEGORIES:Arts & Crafts
ATTACH;FMTTYPE=image/jpeg:http://www.thecastleinn.pub/wp-content/uploads/2025/08/PaintClubEventPicWide.jpg
END:VEVENT
BEGIN:VEVENT
DTSTART;TZID=Europe/London:20260310T190000
DTEND;TZID=Europe/London:20260310T210000
DTSTAMP:20260419T140218
CREATED:20260306T133327Z
LAST-MODIFIED:20260306T133327Z
UID:10000008-1773169200-1773176400@www.thecastleinn.pub
SUMMARY:Paint and Sip Night with The Paint Club
DESCRIPTION:The Paint Club is at Castle Inn Cambridge every month.\nEach month we paint a new picture. We are painting a colourful walk for this month’s event! \nThis is the perfect painting workshop for all\, even if you have never picked up a brush before.\n– No experience required\n– All painting materials provided (apron\, brushes\, paint and a canvas that you can take home)\n– A finished masterpiece in 2 hours.\n– Food & drink to be purchased separately at the bar. \nPlease note there is limited availability so please purchase tickets in advance. If you are buying tickets as a group\, we would suggest purchasing all tickets together to ensure no one misses out. Our events can sell out quickly and unfortunately\, sometimes it means some people can’t get tickets. \nThis event is held upstairs. \nCLICK HERE TO PURCHASE TICKETS
URL:http://www.thecastleinn.pub/event/paint-and-sip-night-with-the-paint-club-4/
LOCATION:The Castle Inn\, 36 Castle Street\, Cambridge\, Cambridgeshire\, CB3 0AJ\, United Kingdom
CATEGORIES:Arts & Crafts
ATTACH;FMTTYPE=image/jpeg:http://www.thecastleinn.pub/wp-content/uploads/2025/08/PaintClubEventPicWide.jpg
END:VEVENT
BEGIN:VEVENT
DTSTART;TZID=Europe/London:20251014T190000
DTEND;TZID=Europe/London:20251014T210000
DTSTAMP:20260419T140218
CREATED:20250806T164220Z
LAST-MODIFIED:20250806T164220Z
UID:10000004-1760468400-1760475600@www.thecastleinn.pub
SUMMARY:Paint and Sip Night with The Paint Club
DESCRIPTION:The Paint Club is at Castle Inn Cambridge every month.\nEach month we paint a new picture. We are painting a Badger for this month’s event! \nThis is the perfect painting workshop for all\, even if you have never picked up a brush before.\n– No experience required\n– All painting materials provided (apron\, brushes\, paint and a canvas that you can take home)\n– A finished masterpiece in 2 hours.\n– Food & drink to be purchased separately at the bar. \nPlease note there is limited availability so please purchase tickets in advance. If you are buying tickets as a group\, we would suggest purchasing all tickets together to ensure no one misses out. Our events can sell out quickly and unfortunately\, sometimes it means some people can’t get tickets. \nThis event is held upstairs. \nCLICK HERE TO PURCHASE TICKETS
URL:http://www.thecastleinn.pub/event/paint-and-sip-night-with-the-paint-club-3/
LOCATION:The Castle Inn\, 36 Castle Street\, Cambridge\, Cambridgeshire\, CB3 0AJ\, United Kingdom
CATEGORIES:Arts & Crafts
ATTACH;FMTTYPE=image/jpeg:http://www.thecastleinn.pub/wp-content/uploads/2025/08/PaintClubEventPicWide.jpg
END:VEVENT
BEGIN:VEVENT
DTSTART;TZID=Europe/London:20250910T190000
DTEND;TZID=Europe/London:20250910T210000
DTSTAMP:20260419T140218
CREATED:20250806T163551Z
LAST-MODIFIED:20250806T163551Z
UID:10000003-1757530800-1757538000@www.thecastleinn.pub
SUMMARY:Paint and Sip Night with The Paint Club
DESCRIPTION:The Paint Club is at Castle Inn Cambridge every month.\nEach month we paint a new picture. We are painting a lantern forest for this month’s event. \nThis is the perfect painting workshop for all\, even if you have never picked up a brush before.\n– No experience required\n– All painting materials provided (apron\, brushes\, paint and a canvas that you can take home)\n– A finished masterpiece in 2 hours.\n– Food & drink to be purchased separately at the bar. \nPlease note there is limited availability so please purchase tickets in advance. If you are buying tickets as a group\, we would suggest purchasing all tickets together to ensure no one misses out. Our events can sell out quickly and unfortunately\, sometimes it means some people can’t get tickets. \nThis event is held upstairs. \nCLICK HERE TO PURCHASE TICKETS
URL:http://www.thecastleinn.pub/event/paint-and-sip-night-with-the-paint-club-2/
LOCATION:The Castle Inn\, 36 Castle Street\, Cambridge\, Cambridgeshire\, CB3 0AJ\, United Kingdom
CATEGORIES:Arts & Crafts
ATTACH;FMTTYPE=image/jpeg:http://www.thecastleinn.pub/wp-content/uploads/2025/08/PaintClubEventPicWide.jpg
END:VEVENT
BEGIN:VEVENT
DTSTART;TZID=Europe/London:20250812T190000
DTEND;TZID=Europe/London:20250812T210000
DTSTAMP:20260419T140218
CREATED:20250806T162017Z
LAST-MODIFIED:20250806T163806Z
UID:10000002-1755025200-1755032400@www.thecastleinn.pub
SUMMARY:Paint and Sip Night with The Paint Club
DESCRIPTION:The Paint Club is at Castle Inn Cambridge every month.\nEach month we paint a new picture. We are painting a flamingo for this month’s event. \nThis is the perfect painting workshop for all\, even if you have never picked up a brush before.\n– No experience required\n– All painting materials provided (apron\, brushes\, paint and a canvas that you can take home)\n– A finished masterpiece in 2 hours.\n– Food & drink to be purchased separately at the bar. \nPlease note there is limited availability so please purchase tickets in advance. If you are buying tickets as a group\, we would suggest purchasing all tickets together to ensure no one misses out. Our events can sell out quickly and unfortunately\, sometimes it means some people can’t get tickets. \nThis event is held upstairs. \nCLICK HERE TO PURCHASE TICKETS
URL:http://www.thecastleinn.pub/event/paint-and-sip-night-with-the-paint-club/
LOCATION:The Castle Inn\, 36 Castle Street\, Cambridge\, Cambridgeshire\, CB3 0AJ\, United Kingdom
CATEGORIES:Arts & Crafts
ATTACH;FMTTYPE=image/jpeg:http://www.thecastleinn.pub/wp-content/uploads/2025/08/PaintClubEventPicWide.jpg
END:VEVENT
END:VCALENDAR